BEGIN:VCALENDAR
VERSION:2.0
PRODID:-//ChamberMaster//Event Calendar 2.0//EN
METHOD:PUBLISH
X-PUBLISHED-TTL:P3D
REFRESH-INTERVAL:P3D
CALSCALE:GREGORIAN
BEGIN:VEVENT
DTSTART:20200210T223000Z
DTEND:20200211T003000Z
X-MICROSOFT-CDO-ALLDAYEVENT:FALSE
SUMMARY:2020 Legislative Reception - "Meet the Candidates" 2/10/2020
DESCRIPTION:You're Invited!\n\nLegislative Reception\n\n"Meet the Candidates"\n\n \n\n Monday\, February 10\, 2020 ~ 5:30 - 7:30 P.M.\n\nThe City Club   144 S. Main Street \n\n \n\n The purpose of the reception is to allow Chamber members\, and the general \n\npublic to personally meet\, network and dialogue with the Candidates as well as the \n\nPublic/Elected Officials.\n\n(Candidates will be given 5 minutes to speak)\n\n \n\nHors d'oeuvres will be  served\n\nA Cash Bar will  be  available
X-ALT-DESC;FMTTYPE=text/html:<div style="text-align: center\;"><span style="font-weight:bold\;language:en-US\;"><span style="font-family:edwardian script itc\;"><span style="font-size:20.0pt\;">You&rsquo\;re Invited!</span></span></span><br />\n<span style="font-weight:bold\;language:en-US\;"><span style="font-family:edwardian script itc\;"><span style="font-size:20.0pt\;">Legislative Reception</span></span></span><br />\n<span style="font-weight:bold\;language:en-US\;"><span style="color:black\;"><span style="font-family:lucida calligraphy\;"><span style="font-size:10.0pt\;">&ldquo\;Meet the Candidates&rdquo\;</span></span></span></span><br />\n&nbsp\;<br />\n<span style="language:en-US\;"><span style="font-family:times new roman\;"><span style="font-size:14.0pt\;">&nbsp\;Monday\, February 10\, 2020 ~ 5:30 - 7:30 P.M.</span></span></span><br />\n<span style="language:en-US\;"><span style="font-family:times new roman\;">The City Club &mdash\; 144 S. Main Street </span></span><br />\n&nbsp\;<br />\n<span style="font-weight:bold\;language:en-US\;"><span style="font-family:book antiqua\;"><span style="font-size:10.0pt\;">&nbsp\;The purpose of the reception is to allow Chamber members\, and the general </span></span></span><br />\n<span style="font-weight:bold\;language:en-US\;"><span style="font-family:book antiqua\;"><span style="font-size:10.0pt\;">public to personally meet\, network and dialogue with the Candidates as well as the </span></span></span><br />\n<span style="font-weight:bold\;language:en-US\;"><span style="font-family:book antiqua\;"><span style="font-size:10.0pt\;">Public/Elected Officials.</span></span></span><br />\n<span style="font-weight:bold\;language:en-US\;"><span style="font-family:book antiqua\;"><span style="font-size:10.0pt\;">(Candidates will be given 5 minutes to speak)</span></span></span><br />\n&nbsp\;<br />\n<span style="language:en-US\;"><span style="font-family:book antiqua\;"><span style="font-size:10.0pt\;">Hors d&#39\;oeuvres will be&nbsp\; served</span></span></span><br />\n<span style="language:en-US\;"><span style="font-family:book antiqua\;"><span style="font-size:10.0pt\;">A Cash Bar will&nbsp\; be&nbsp\; available</span></span></span><br />\n&nbsp\;<br />\n&nbsp\;<br />\n&nbsp\;</div>\n
LOCATION:The City Club 144 S. Main Street 3rd Floor
UID:e.1610.3188
SEQUENCE:3
DTSTAMP:20260425T105804Z
URL:https://business.limachamber.com/events/details/2020-legislative-reception-meet-the-candidates-2-10-2020-3188
END:VEVENT

END:VCALENDAR
