BEGIN:VCALENDAR
VERSION:2.0
PRODID:-//ChamberMaster//Event Calendar 2.0//EN
METHOD:PUBLISH
X-PUBLISHED-TTL:P3D
REFRESH-INTERVAL:P3D
CALSCALE:GREGORIAN
BEGIN:VEVENT
DTSTART:20210417T120000Z
DTEND:20210417T213000Z
X-MICROSOFT-CDO-ALLDAYEVENT:FALSE
SUMMARY:Adult Remedial Driving Course 4/17/21
DESCRIPTION:This course is offered once a month from 8:00 am-5:30 pm  \n\n\nThe fee is $100.00 prepaid or register online with credit card payment  lunch is not provided however a lunch break is given. \n\n \n\nClasses are limited to 24 students and a picture I.D. is required.
X-ALT-DESC;FMTTYPE=text/html:This course is offered once a month from 8:00&nbsp\;am-5:30&nbsp\;pm&nbsp\;&nbsp\;\n<div><br />\nThe fee is $100.00 prepaid or register online with credit card payment&ndash\; lunch is not provided however a lunch break is given.&nbsp\;</div>\n\n<div>&nbsp\;</div>\n\n<div><strong>Classes are limited to 24 students and a picture I.D. is required.</strong></div>\n
LOCATION:Municipal Building 109 North Union Lima\, OH
UID:e.1610.3468
SEQUENCE:3
DTSTAMP:20260419T204632Z
URL:https://business.limachamber.com/events/details/adult-remedial-driving-course-4-17-21-3468
END:VEVENT

END:VCALENDAR
