BEGIN:VCALENDAR
VERSION:2.0
PRODID:-//ChamberMaster//Event Calendar 2.0//EN
METHOD:PUBLISH
X-PUBLISHED-TTL:P3D
REFRESH-INTERVAL:P3D
CALSCALE:GREGORIAN
BEGIN:VEVENT
DTSTART:20191121T130000Z
DTEND:20191121T143000Z
X-MICROSOFT-CDO-ALLDAYEVENT:FALSE
SUMMARY:Chamber University 11/21/19
DESCRIPTION:Chamber University is an informative and interesting program\, targeted toward mid to upper-level managers\,  held quarterly at the UNOH Event Center in the Crystal Room.  Those in attendance will receive one SHRM credit hour.\n\n\n\nThis session's speaker will be \n\n Mindi Wells\, Esq.\, PHR\, Wells Law\, LLC.\n\nThe Topic is:\n\n"HR Legal Landmines"\n\n\n\nThis is a great opportunity to learn from and network with experts in the field of HR and beyond.  You will be learning new creative ideas to help you gain better resources and connections on important topics that impact your business. \n                                                     Click here to view flyer:
X-ALT-DESC;FMTTYPE=text/html:<div style="text-align: center\;"><span style="font-size:16px\;">Chamber University is an informative and interesting program\, targeted toward mid to upper-level managers\,&nbsp\; held quarterly at the UNOH Event Center in the Crystal Room.&nbsp\; Those in attendance will receive one SHRM credit hour.</span><br />\n<br />\n<span style="font-size:16px\;">This session&#39\;s speaker will be&nbsp\;</span><br />\n<span style="font-size:20px\;"><strong>&nbsp\;Mindi Wells\, Esq.\, PHR\, Wells Law\, LLC.<br />\nThe Topic is:<br />\n&quot\;HR Legal Landmines&quot\;</strong></span><br />\n<br />\n<span style="font-size:16px\;">This is a great opportunity to learn from and network with experts in the field of HR and beyond.&nbsp\; You will be learning new creative ideas to help you gain better resources and connections on important topics that impact your business.&nbsp\;</span></div>\n&nbsp\; &nbsp\; &nbsp\; &nbsp\; &nbsp\; &nbsp\; &nbsp\; &nbsp\; &nbsp\; &nbsp\; &nbsp\; &nbsp\; &nbsp\; &nbsp\; &nbsp\; &nbsp\; &nbsp\; &nbsp\; &nbsp\; &nbsp\; &nbsp\; &nbsp\; &nbsp\; &nbsp\; &nbsp\; <a href="https://chambermaster.blob.core.windows.net/userfiles/UserFiles/chambers/1610/File/chamberinvite11-19.pdf">&nbsp\; &nbsp\;Click here to view flyer:</a><br />\n&nbsp\;
LOCATION:UNOH Event Center Crystal Room 1450 N. Cable Road Lima\, Ohio 45805
UID:e.1610.2930
SEQUENCE:3
DTSTAMP:20260425T105148Z
URL:https://business.limachamber.com/events/details/chamber-university-11-21-19-2930
END:VEVENT

END:VCALENDAR
