BEGIN:VCALENDAR
VERSION:2.0
PRODID:-//ChamberMaster//Event Calendar 2.0//EN
METHOD:PUBLISH
X-PUBLISHED-TTL:P3D
REFRESH-INTERVAL:P3D
CALSCALE:GREGORIAN
BEGIN:VEVENT
DTSTART:20201010T130000Z
DTEND:20201010T190000Z
X-MICROSOFT-CDO-ALLDAYEVENT:FALSE
SUMMARY:Juvenile Driver Improvement Course 10/10/20
DESCRIPTION:This course is offered once every other month from 9:00 am-3:00 pm and is held at 144 S. Main Street Suite 100.  \n \n\nThe fee is $75 payable by pre-registering online or at the Lima Chamber.\n\n\n\nLunch is not provided however a lunch break is given.  \n \n\nThis Juvenile Driver Improvement Course addresses these topics:  \n\n \n\nSession One\n\n   Risk and Perceptual Awareness\n\n     -  Driver's Behavior\n\n     -  6 Pillars of Character\n\n     -  Speeding \n\n     -  Being a Defensive Driver\n\n \n\nSession Two\n\n   Risk Awareness Assessment\n\n     -  Identifying Risks\n\n     -  Driving Errors\n\n     -  Consequences and Drivers Actions\n\n \n\nSession Three\n\n   Driver Behavior\n\n   Drugs and Driving\n\n   Collision Factors \n\n   Driver Assessment\n\n \n\nThe course will help young drivers to understand the responsibility of being a defensive driver.\n\n \n\nFor Full Details regarding the Defensive Driving Course click here for a brochure.
X-ALT-DESC;FMTTYPE=text/html:This course is offered once every other month from 9:00&nbsp\;am-3:00&nbsp\;pm and is held at 144 S. Main Street Suite 100. &nbsp\;\n<div>&nbsp\;</div>\n\n<div>The fee is $75 payable by pre-registering online or at the Lima Chamber.<br />\n<br />\nLunch is not provided however a lunch break is given. &nbsp\;\n<div>&nbsp\;</div>\n\n<div><span style="font-weight: bold\;"><span style="font-size: 12pt\;">This Juvenile Driver Improvement Course addresses these topics:&nbsp\; </span></span><br />\n&nbsp\;<br />\n<span style="font-weight: bold\;"><span style="font-size: 11pt\;">Session One</span></span><br />\n<span style="font-size: 11pt\;">&nbsp\;&nbsp\; Risk and Perceptual Awareness</span><br />\n<span style="font-size: 11pt\;">&nbsp\;&nbsp\;&nbsp\;&nbsp\; -&nbsp\; Driver&rsquo\;s Behavior</span><br />\n<span style="font-size: 11pt\;">&nbsp\;&nbsp\;&nbsp\;&nbsp\; -&nbsp\; 6 Pillars of Character</span><br />\n<span style="font-size: 11pt\;">&nbsp\;&nbsp\;&nbsp\;&nbsp\; -&nbsp\; Speeding </span><br />\n<span style="font-size: 11pt\;">&nbsp\;&nbsp\;&nbsp\;&nbsp\; -&nbsp\; Being a Defensive Driver</span><br />\n&nbsp\;<br />\n<span style="font-weight: bold\;"><span style="font-size: 11pt\;">Session Two</span></span><br />\n<span style="font-size: 11pt\;">&nbsp\;&nbsp\; Risk Awareness Assessment</span><br />\n<span style="font-size: 11pt\;">&nbsp\;&nbsp\;&nbsp\;&nbsp\; -&nbsp\; Identifying Risks</span><br />\n<span style="font-size: 11pt\;">&nbsp\;&nbsp\;&nbsp\;&nbsp\; -&nbsp\; Driving Errors</span><br />\n<span style="font-size: 11pt\;">&nbsp\;&nbsp\;&nbsp\;&nbsp\; -&nbsp\; Consequences and Drivers Actions</span><br />\n&nbsp\;<br />\n<span style="font-weight: bold\;"><span style="font-size: 11pt\;">Session Three</span></span><br />\n<span style="font-size: 11pt\;">&nbsp\;&nbsp\; Driver Behavior</span><br />\n<span style="font-size: 11pt\;">&nbsp\;&nbsp\; Drugs and Driving</span><br />\n<span style="font-size: 11pt\;">&nbsp\;&nbsp\; Collision Factors </span><br />\n<span style="font-size: 11pt\;">&nbsp\;&nbsp\; Driver Assessment</span><br />\n&nbsp\;<br />\n<span style="font-size: 11pt\;">The course will help young drivers to understand the responsibility of being a defensive driver.</span><br />\n&nbsp\;</div>\n\n<div style="text-align: center\;">For Full Details regarding the Defensive Driving Course click <a href="https://chambermaster.blob.core.windows.net/userfiles/UserFiles/chambers/1610/File/DdcJUVBrochures2017002.pdf">here</a>&nbsp\;for a brochure.</div>\n</div>\n
LOCATION:Lima/Allen County Chamber of Commerce 144 S Main Street Suite 100 Lima\, OH 45801
UID:e.1610.3148
SEQUENCE:3
DTSTAMP:20260424T052528Z
URL:https://business.limachamber.com/events/details/juvenile-driver-improvement-course-10-10-20-3148
END:VEVENT

END:VCALENDAR
