BEGIN:VCALENDAR
VERSION:2.0
PRODID:-//ChamberMaster//Event Calendar 2.0//EN
METHOD:PUBLISH
X-PUBLISHED-TTL:P3D
REFRESH-INTERVAL:P3D
CALSCALE:GREGORIAN
BEGIN:VEVENT
DTSTART:20240910T113000Z
DTEND:20240910T130000Z
X-MICROSOFT-CDO-ALLDAYEVENT:FALSE
SUMMARY:Safety Council Monthly Meeting 9/10/24
DESCRIPTION:Topic:  Suicide Prevention for the Workplace\n\nSpeaker: Mandy McIntyre\, Founder/Principal\, Level Up Consultants\nThis date coincides with World Suicide Prevention Day.\n\nOur third meeting of program year 2025.  Don't forget that this meeting entitles rebate-eligible safety council members to one safety council attendance credit at a monthly meeting. 10 meetings are required for the year.\n\nThis event is open to members of the West Central Ohio Safety Council members and the public. Registration is required.\n\nFor additional information contact Deb Katzenmeyer at 419.222.6708 or dkatz@limachamber.com.
X-ALT-DESC;FMTTYPE=text/html:<h2>Topic:&nbsp\; Suicide Prevention for the Workplace<br />\nSpeaker: Mandy McIntyre\, Founder/Principal\, Level Up Consultants</h2>\n<span style="font-size:14px\;">This date coincides with <a href="https://www.who.int/campaigns/world-suicide-prevention-day">World Suicide Prevention Day</a>.</span>\n\n<h2><span style="font-size: 16px\;">Our third meeting of program year 2025.&nbsp\; Don&#39\;t forget that this meeting entitles rebate-eligible safety council members to&nbsp\;one safety council attendance credit at a monthly meeting.&nbsp\;<em>10 meetings are required for the year.</em></span></h2>\n\n<p><span style="font-size: 16px\;">This event is open to members of the West Central Ohio Safety Council members and the public. Registration is required.</span></p>\n\n<p><span style="font-size: 16px\;">For additional information contact Deb Katzenmeyer at 419.222.6708 or dkatz@limachamber.com.</span></p>\n
LOCATION:Howard Johnson by Wyndham Lima Grand Ballroom 1920 Roschman Ave. Lima\, OH 45804 Facility Phone # (419) 812-2276
UID:e.1610.4550
SEQUENCE:3
DTSTAMP:20260421T000221Z
URL:https://business.limachamber.com/events/details/safety-council-monthly-meeting-9-10-24-4550
END:VEVENT

END:VCALENDAR
