BEGIN:VCALENDAR
VERSION:2.0
PRODID:-//ChamberMaster//Event Calendar 2.0//EN
METHOD:PUBLISH
X-PUBLISHED-TTL:P3D
REFRESH-INTERVAL:P3D
CALSCALE:GREGORIAN
BEGIN:VEVENT
DTSTART:20240206T220000Z
DTEND:20240207T000000Z
X-MICROSOFT-CDO-ALLDAYEVENT:FALSE
SUMMARY:Team Building Tuesday 2/6/24
DESCRIPTION:Looking for an after-hours mixer that's fun and helps build your business? Want to increase your sales and make new contacts in the coming year? The Chamber has you covered!\n\n\n\nWe are excited to announce our new Team Building Tuesdays in 2024! This quarterly program series is a great opportunity to network\, meet new friends\, conquer a fun activity\, plus build relationships.\n\n\n\nWhether you're attending solo or as part of your company's staff\, you'll have the chance to connect and collaborate with others in the region. So mark your calendars and join us for this fun after-hours event! All are welcome!\n\n\n\nGuests receive event ticket\, pizza and appetizers\, free soda\, 2 drink tickets per person. This quarter's challenge is a quick game of axe throwing! Plus\, we have Motterific Music & Photo Booth joining us to add even more fun to the mix!\n\n\n\nWe can't wait to see you there!\n\n\n\nAll 2024 dates for this series include: February 6\, May 14\, September 24\, and November 19. Join us!\n\n\n\nRegistration deadline is February 4\, 2024.\n\nNo refunds for cancellations within seven (7) days before the event.\nSponsorship opportunities to build your business are available NOW!\n\nClick HERE for the sponsorship flier!\n\nContact Julie Klingler at jklingler@limachamber.com or 419-222-6045 for more info!
X-ALT-DESC;FMTTYPE=text/html:<span style="font-family:verdana\;"><span style="font-size:18px\;">Looking for an after-hours&nbsp\;mixer that&#39\;s fun and helps build your business?&nbsp\;Want to increase your sales&nbsp\;and make new contacts in the coming year? The Chamber has you covered!<br />\n<br />\nWe are excited to announce our new Team Building Tuesdays in 2024! This quarterly program series&nbsp\;is a great opportunity to network\, meet new friends\,&nbsp\;conquer a fun&nbsp\;activity\, plus build relationships.<br />\n<br />\nWhether you&#39\;re attending solo or as part of your company&#39\;s staff\, you&#39\;ll have the chance to connect and collaborate with others in the region.&nbsp\;So mark your calendars and join us for this&nbsp\;fun after-hours event! All are welcome!</span></span>\n\n<p><br />\n<span style="font-family:verdana\;"><span style="font-size:18px\;"><span style="background:white\;">Guests&nbsp\;receive event ticket\, pizza and appetizers\, free soda\, 2 drink tickets per person<span style="font-size:14px\;">. <span style="font-size:18px\;">This quarter&#39\;s challenge is a quick game of axe throwing! Plus\, we have Motterific Music &amp\; Photo Booth joining us to add even more fun to the mix!</span></span></span><br />\n<br />\nWe can&rsquo\;t wait to see you there!<br />\n<br />\nAll 2024 dates for this series include: February 6\, May 14\, September 24\, and November 19. Join us!<br />\n<br />\n<span style="color:black\;"><span style="font-size:16px\;">Registration deadline is February 4\, 2024.<br />\nNo refunds for cancellations within seven (7) days before the event.</span></span></span></span></p>\n<span style="font-family:verdana\;"><span style="font-size:18px\;"><strong><span style="font-size:16px\;"><span style="color:#B22222\;">Sponsorship opportunities to build your business are available NOW!<br />\n<a href="https://chambermaster.blob.core.windows.net/userfiles/UserFiles/chambers/1610/File/TeamBuildingTuesdaysSponsorFlyer2024.pdf">Click HERE for the sponsorship flier!</a></span></span></strong></span><br />\n<strong style="font-size: 18px\;"><span style="font-size: 16px\;"><span style="color: rgb(178\, 34\, 34)\;">Contact Julie Klingler at jklingler@limachamber.com or 419-222-6045&nbsp\;for more info!</span></span></strong></span>\n\n<p>&nbsp\;</p>\n
LOCATION:Westgate Entertainment Center 721 North Cable Road Lima\, Ohio 45805
UID:e.1610.4630
SEQUENCE:3
DTSTAMP:20260425T164026Z
URL:https://business.limachamber.com/events/details/team-building-tuesday-2-6-24-4630
END:VEVENT

END:VCALENDAR
